Workbook

Sheet Magi
A1: Tribunal | B1: Covenant | C1: Name | D1: House | E1: Line | F1: Gender | G1: est. Age | H1: Known Age | I1: Order Rank | J1: Order Role | K1: House Rank | L1: House Role | M1: Parens | N1: Filii | O1: Gild | P1: Specialty | Q1: Notes | R1: Reference
A3: Greater Alps | B3: The Cave of Twisting Shadows | C3: Muscaria | D3: Criamon | E3: Path of the Mirror | F3: f | G3: =H3 -> 41 | H3: 41 | L3: Primus | M3: Demetrius | R3: HoH:MC p. 44
A4: Greater Alps | B4: The Cave of Twisting Shadows | C4: Circum Perfico | D4: Criamon | F4: f | M4: Johannes | N4: Fortuito, Viscus
A5: Greater Alps | B5: The Cave of Twisting Shadows | C5: Demetrius | D5: Criamon | F5: m | M5: Yannes | Q5: In SoI named Darius, pater of Muscaria
A6: Greater Alps | B6: The Cave of Twisting Shadows | C6: Fortuito | D6: Criamon | F6: m | M6: Circum Perfico
A7: Greater Alps | B7: The Cave of Twisting Shadows | C7: Gunther | D7: Criamon | F7: m | M7: Frederico
A8: Greater Alps | B8: The Cave of Twisting Shadows | C8: Hagen | D8: Criamon | F8: m | J8: Quaesitor | M8: Flauberto the Difficult
A9: Greater Alps | B9: The Cave of Twisting Shadows | C9: Latrunculus | D9: Criamon | F9: m | M9: Aurelia
A10: Greater Alps | B10: The Cave of Twisting Shadows | C10: Pellam | D10: Criamon | F10: m | M10: Cato
A11: Greater Alps | B11: The Cave of Twisting Shadows | C11: Phalene | D11: Criamon | F11: f | M11: Innocu
A12: Greater Alps | B12: The Cave of Twisting Shadows | C12: Regina | D12: Criamon | F12: f | M12: Dexter of Bonisagus and Gribbinus
A13: Greater Alps | B13: The Cave of Twisting Shadows | C13: Siobhan | D13: Criamon | F13: f | M13: Vespasian the Avaricious
A14: Greater Alps | B14: The Cave of Twisting Shadows | C14: Viscus | D14: Criamon | F14: m | M14: Circum Perfico
A15: Greater Alps | B15: CoTS chapter | D15: Criamon
A16: Greater Alps | B16: CoTS chapter | D16: Criamon
A17: Greater Alps | B17: CoTS chapter | D17: Criamon
A18: Greater Alps | B18: CoTS chapter | D18: Criamon
A19: Greater Alps | B19: CoTS chapter | D19: Criamon
A20: Greater Alps | B20: The Icy North | C20: Athena Alpina | D20: Guernicus | F20: f | G20: =H20 -> 112 | H20: 112 | J20: Presiding Quaesitor | P20: Intellego
A21: Greater Alps | B21: The Icy North | C21: Cato | D21: Guernicus | F21: m | J21: Quaesitor
A22: Greater Alps | B22: The Icy North | C22: Adrasteia | D22: Tytalus | F22: f | H22: middle-aged | J22: Quaesitor
A23: Greater Alps | B23: The Icy North | C23: Kentigern | D23: Ex Miscellanea | E23: Beast Master | F23: m | G23: =H23 -> 99 | H23: 99 | J23: Quaesitor | L23: Magvillus Council | P23: Animal
A24: Greater Alps | B24: The Icy North | C24: Vincent | D24: Criamon | F24: m | I24: Archmage | J24: Hoplite
A25: Greater Alps | B25: The Icy North | C25: Katrina | D25: Bjornaer | F25: f | J25: Hoplite | P25: wolverine heartbeats
A26: Greater Alps | B26: Rorschach Chapter | C26: Mary | D26: Mercere | E26: Mercurian | F26: f | P26: illusions
A27: Greater Alps | B27: Rorschach Chapter | C27: Rogitien | D27: Mercere | E27: Mercurian | F27: m | P27: longevity rituals
A28: Greater Alps | B28: Rorschach Chapter | D28: Redcap
A29: Greater Alps | B29: Rorschach Chapter | D29: Redcap
A30: Greater Alps | B30: Copper Rooster | C30: Ulrich | D30: Redcap | J30: Chief Redcap
A31: Greater Alps | B31: Copper Rooster | D31: Redcap
A32: Greater Alps | B32: Copper Rooster | D32: Redcap
A33: Greater Alps | B33: Copper Rooster | D33: Redcap
A34: Greater Alps | B34: Copper Rooster | D34: Redcap
A35: Greater Alps | B35: Copper Rooster | D35: Redcap
A36: Greater Alps | B36: Copper Rooster | D36: Redcap
A37: Greater Alps | B37: Juno’s Spire | C37: Pietro | D37: Flambeau | E37: lightning (ex-Tytalus) | F37: m | I37: Archmage | J37: Chief Hoplite
A38: Greater Alps | B38: Tower of Ashes | C38: Jacinta filia Nicoli | D38: Flambeau | E38: Apromor | F38: f | I38: Archmage | M38: Nicoli/Nicolus | P38: Perdo
A39: Greater Alps | B39: CotIN Chapter A | D39: Jerbiton
A40: Greater Alps | B40: CotIN Chapter B | D40: Bjornaer
A41: Greater Alps | B41: CotIN Chapter C | D41: Verditius
...

Sheet Lineages
A1: Bjornaer
A2: Clan Midusulf | B2: =COUNTIFS(Magi!$E$1:$E$1407,"="&A2) -> 1 | C2: 18
A3: Clan Sirnas | B3: =COUNTIFS(Magi!$E$1:$E$1407,"="&A3) -> 2 | C3: 18
A4: Clan Arelie | B4: =COUNTIFS(Magi!$E$1:$E$1407,"="&A4) -> 5 | C4: 12
A5: Clan Wilkis | B5: =COUNTIFS(Magi!$E$1:$E$1407,"="&A5) -> 5 | C5: 12
A6: Clan Maruhs | B6: =COUNTIFS(Magi!$E$1:$E$1407,"="&A6) -> 1 | C6: 12
A7: Clan Ilfetu | B7: =COUNTIFS(Magi!$E$1:$E$1407,"="&A7) -> 2 | C7: 6
A9: Bonisagus
A10: Bonisagus | B10: =COUNTIFS(Magi!$E$1:$E$1407,"="&A10) -> 52 | C10: 52
A11: Trianoma | B11: =COUNTIFS(Magi!$E$1:$E$1407,"="&A11) -> 29 | C11: 29 | D11: 5 seekers
A13: Criamon
A14: Path of the Body | B14: =COUNTIFS(Magi!$E$1:$E$1407,"="&A14) -> 0
A15: Path of Seeming | B15: =COUNTIFS(Magi!$E$1:$E$1407,"="&A15) -> 0
A16: Path of Strife | B16: =COUNTIFS(Magi!$E$1:$E$1407,"="&A16) -> 2 | C16: only a few
A17: Path of Walking Backwards | B17: =COUNTIFS(Magi!$E$1:$E$1407,"="&A17) -> 3
A18: Path of Beacons | B18: =COUNTIFS(Magi!$E$1:$E$1407,"="&A18) -> 1
A19: Winding Path | B19: =COUNTIFS(Magi!$E$1:$E$1407,"="&A19) -> 0
A21: Ex Miscellanea
A22: Columbae | B22: =COUNTIFS(Magi!$E$1:$E$1407,"="&A22) -> 4
A23: Donatores Requietis Aeternae | B23: =COUNTIFS(Magi!$E$1:$E$1407,"="&A23) -> 4
A24: Cult of Orpheus | B24: =COUNTIFS(Magi!$E$1:$E$1407,"="&A24) -> 8
A25: Pharmacopoeian | B25: =COUNTIFS(Magi!$E$1:$E$1407,"="&A25) -> 7
A26: Pralix | B26: =COUNTIFS(Magi!$E$1:$E$1407,"="&A26) -> 3
A27: Rusticani | B27: =COUNTIFS(Magi!$E$1:$E$1407,"="&A27) -> 5
A28: Hermetic Sahir | B28: =COUNTIFS(Magi!$E$1:$E$1407,"="&A28) -> 4
A29: Seirene | B29: =COUNTIFS(Magi!$E$1:$E$1407,"="&A29) -> 4
A30: Beast Master | B30: =COUNTIFS(Magi!$E$1:$E$1407,"="&A30) -> 3
A31: Damhadh-Duidsan | B31: =COUNTIFS(Magi!$E$1:$E$1407,"="&A31) -> 2
A32: Hermetic Haruspex | B32: =COUNTIFS(Magi!$E$1:$E$1407,"="&A32) -> 3
A33: Karaites | B33: =COUNTIFS(Magi!$E$1:$E$1407,"="&A33) -> 0
... A49: Volkhv | B49: =COUNTIFS(Magi!$E$1:$E$1407,"="&A49) -> 2
B50: =SUM(B22:B49) -> 81
A52: Flambeau
A53: Founder | B53: =COUNTIFS(Magi!$E$1:$E$1407,"="&A53) -> 2
A54: Apromor | B54: =COUNTIFS(Magi!$E$1:$E$1407,"="&A54) -> 10
A55: Boreas | B55: =COUNTIFS(Magi!$E$1:$E$1407,"="&A55) -> 0
A56: Ramius | B56: =COUNTIFS(Magi!$E$1:$E$1407,"="&A56) -> 2
A57: Sebastian | B57: =COUNTIFS(Magi!$E$1:$E$1407,"="&A57) -> 0
A58: Vilano | B58: =COUNTIFS(Magi!$E$1:$E$1407,"="&A58) -> 1
A60: Guernicus
...

Sheet Order Statistics
A1: Known magi | B1: Bjornaer | C1: Bonisagus | D1: Criamon | E1: Ex Miscellanea | F1: Flambeau | G1: Guernicus | H1: Jerbiton | I1: Mercere | J1: Merinita | K1: Tremere | L1: Tytalus | M1: Verditius | N1: Unknown | O1: Redcap
A2: Greater Alps | B2: 5 | C2: 2 | D2: 13 | E2: 1 | F2: 3 | G2: 2 | H2: 26 | I2: 2 | J2: 4 | K2: 0 | L2: 3 | M2: 2 | N2: 8 | O2: 1 | P2: =SUM(B2:O2) -> 72
A3: Hibernia | B3: 1 | C3: 3 | D3: 3 | E3: 6 | F3: 6 | G3: 2 | H3: 3 | I3: 0 | J3: 13 | K3: 3 | L3: 3 | M3: 3 | N3: 10 | O3: 13 | P3: =SUM(B3:O3) -> 69
A4: Iberia | B4: 3 | C4: 4 | D4: 5 | E4: 8 | F4: 10 | G4: 7 | H4: 5 | I4: 0 | J4: 3 | K4: 6 | L4: 1 | M4: 1 | N4: 10 | O4: 2 | P4: =SUM(B4:O4) -> 65
A5: Levant | B5: 1 | C5: 2 | D5: 7 | E5: 1 | F5: 8 | G5: 2 | H5: 6 | I5: 1 | J5: 3 | K5: 5 | L5: 4 | M5: 5 | N5: 5 | O5: 4 | P5: =SUM(B5:O5) -> 54
A6: Loch Leglean | B6: 5 | C6: 1 | D6: 1 | E6: 47 | F6: 1 | G6: 1 | H6: 1 | I6: 0 | J6: 10 | K6: 1 | L6: 2 | M6: 0 | N6: 15 | O6: 1 | P6: =SUM(B6:O6) -> 86
A7: Normandy | B7: 4 | C7: 4 | D7: 0 | E7: 9 | F7: 5 | G7: 5 | H7: 9 | I7: 0 | J7: 7 | K7: 3 | L7: 15 | M7: 4 | N7: 6 | O7: 10 | P7: =SUM(B7:O7) -> 81
A8: Novgorod | B8: 12 | C8: 1 | D8: 1 | E8: 3 | F8: 1 | G8: 2 | H8: 3 | I8: 1 | J8: 3 | K8: 2 | L8: 0 | M8: 2 | N8: 0 | O8: 1 | P8: =SUM(B8:O8) -> 32
A9: Provence | B9: 1 | C9: 3 | D9: 6 | E9: 11 | F9: 18 | G9: 1 | H9: 21 | I9: 2 | J9: 5 | K9: 6 | L9: 3 | M9: 2 | N9: 36 | O9: 8 | P9: =SUM(B9:O9) -> 123
A10: Rhine | B10: 13 | C10: 20 | D10: 4 | E10: 8 | F10: 7 | G10: 4 | H10: 8 | I10: 1 | J10: 12 | K10: 9 | L10: 2 | M10: 3 | N10: 11 | O10: 2 | P10: =SUM(B10:O10) -> 104
A11: Roman | B11: 1 | C11: 0 | D11: 2 | E11: 5 | F11: 3 | G11: 10 | H11: 15 | I11: 2 | J11: 1 | K11: 7 | L11: 8 | M11: 14 | N11: 0 | O11: 9 | P11: =SUM(B11:O11) -> 77
A12: Stonehenge | B12: 3 | C12: 3 | D12: 3 | E12: 9 | F12: 6 | G12: 3 | H12: 6 | I12: 1 | J12: 5 | K12: 5 | L12: 3 | M12: 4 | N12: 0 | O12: 5 | P12: =SUM(B12:O12) -> 56
A13: Theban | B13: 2 | C13: 3 | D13: 3 | E13: 17 | F13: 5 | G13: 6 | H13: 15 | I13: 0 | J13: 3 | K13: 6 | L13: 5 | M13: 9 | N13: 8 | O13: 15 | P13: =SUM(B13:O13) -> 97
... A15: Unknown | B15: 1 | C15: 4 | D15: 5 | E15: 2 | F15: 5 | G15: 4 | H15: 4 | I15: 0 | J15: 6 | K15: 2 | L15: 5 | M15: 4 | N15: 0 | O15: 1 | P15: =SUM(B15:O15) -> 43
B16: =SUM(B2:B15) -> 54 | C16: =SUM(C2:C15) -> 53 | D16: =SUM(D2:D15) -> 54 | E16: =SUM(E2:E15) -> 134 | F16: =SUM(F2:F15) -> 78 | G16: =SUM(G2:G15) -> 57 | H16: =SUM(H2:H15) -> 122 | I16: =SUM(I2:I15) -> 12 | ... O16: =SUM(O2:O15) -> 87 | P16: =SUM(B16:O16) -> 1056
A18: Magi | B18: Bjornaer | C18: Bonisagus | D18: Criamon | E18: Ex Miscellanea | F18: Flambeau | G18: Guernicus | H18: Jerbiton | I18: Mercere | J18: Merinita | K18: Tremere | L18: Tytalus | M18: Verditius | N18: Unknown | O18: Redcap
A19: Greater Alps | B19: =COUNTIFS(Magi!$A$1:$A$1407,"="&$A19,Magi!$D$1:$D$1407,"="&B$18) -> 6 | C19: =COUNTIFS(Magi!$A$1:$A$1407,"="&$A19,Magi!$D$1:$D$1407,"="&C$18) -> 3 | D19: =COUNTIFS(Magi!$A$1:$A$1407,"="&$A19,Magi!$D$1:$D$1407,"="&D$18) -> 18 | E19: =COUNTIFS(Magi!$A$1:$A$1407,"="&$A19,Magi!$D$1:$D$1407,"="&E$18) -> 4 | F19: =COUNTIFS(Magi!$A$1:$A$1407,"="&$A19,Magi!$D$1:$D$1407,"="&F$18) -> 6 | G19: =COUNTIFS(Magi!$A$1:$A$1407,"="&$A19,Magi!$D$1:$D$1407,"="&G$18) -> 8 | H19: =COUNTIFS(Magi!$A$1:$A$1407,"="&$A19,Magi!$D$1:$D$1407,"="&H$18) -> 26 | I19: =COUNTIFS(Magi!$A$1:$A$1407,"="&$A19,Magi!$D$1:$D$1407,"="&I$18) -> 2 | ... O19: =COUNTIFS(Magi!$A$1:$A$1407,"="&$A19,Magi!$D$1:$D$1407,"="&O$18) -> 10 | P19: =SUM(B19:O19) -> 100 | R19: 26 Jerbiton
A20: Hibernia | B20: =COUNTIFS(Magi!$A$1:$A$1407,"="&$A20,Magi!$D$1:$D$1407,"="&B$18) -> 8 | C20: =COUNTIFS(Magi!$A$1:$A$1407,"="&$A20,Magi!$D$1:$D$1407,"="&C$18) -> 3 | D20: =COUNTIFS(Magi!$A$1:$A$1407,"="&$A20,Magi!$D$1:$D$1407,"="&D$18) -> 3 | E20: =COUNTIFS(Magi!$A$1:$A$1407,"="&$A20,Magi!$D$1:$D$1407,"="&E$18) -> 10 | F20: =COUNTIFS(Magi!$A$1:$A$1407,"="&$A20,Magi!$D$1:$D$1407,"="&F$18) -> 6 | G20: =COUNTIFS(Magi!$A$1:$A$1407,"="&$A20,Magi!$D$1:$D$1407,"="&G$18) -> 5 | H20: =COUNTIFS(Magi!$A$1:$A$1407,"="&$A20,Magi!$D$1:$D$1407,"="&H$18) -> 3 | I20: =COUNTIFS(Magi!$A$1:$A$1407,"="&$A20,Magi!$D$1:$D$1407,"="&I$18) -> 0 | ... O20: =COUNTIFS(Magi!$A$1:$A$1407,"="&$A20,Magi!$D$1:$D$1407,"="&O$18) -> 13 | P20: =SUM(B20:O20) -> 77
A21: Iberia | B21: =COUNTIFS(Magi!$A$1:$A$1407,"="&$A21,Magi!$D$1:$D$1407,"="&B$18) -> 3 | C21: =COUNTIFS(Magi!$A$1:$A$1407,"="&$A21,Magi!$D$1:$D$1407,"="&C$18) -> 8 | D21: =COUNTIFS(Magi!$A$1:$A$1407,"="&$A21,Magi!$D$1:$D$1407,"="&D$18) -> 11 | E21: =COUNTIFS(Magi!$A$1:$A$1407,"="&$A21,Magi!$D$1:$D$1407,"="&E$18) -> 10 | F21: =COUNTIFS(Magi!$A$1:$A$1407,"="&$A21,Magi!$D$1:$D$1407,"="&F$18) -> 14 | G21: =COUNTIFS(Magi!$A$1:$A$1407,"="&$A21,Magi!$D$1:$D$1407,"="&G$18) -> 10 | H21: =COUNTIFS(Magi!$A$1:$A$1407,"="&$A21,Magi!$D$1:$D$1407,"="&H$18) -> 7 | I21: =COUNTIFS(Magi!$A$1:$A$1407,"="&$A21,Magi!$D$1:$D$1407,"="&I$18) -> 0 | ... O21: =COUNTIFS(Magi!$A$1:$A$1407,"="&$A21,Magi!$D$1:$D$1407,"="&O$18) -> 22 | P21: =SUM(B21:O21) -> 106
A22: Levant | B22: =COUNTIFS(Magi!$A$1:$A$1407,"="&$A22,Magi!$D$1:$D$1407,"="&B$18) -> 1 | C22: =COUNTIFS(Magi!$A$1:$A$1407,"="&$A22,Magi!$D$1:$D$1407,"="&C$18) -> 2 | D22: =COUNTIFS(Magi!$A$1:$A$1407,"="&$A22,Magi!$D$1:$D$1407,"="&D$18) -> 9 | E22: =COUNTIFS(Magi!$A$1:$A$1407,"="&$A22,Magi!$D$1:$D$1407,"="&E$18) -> 1 | F22: =COUNTIFS(Magi!$A$1:$A$1407,"="&$A22,Magi!$D$1:$D$1407,"="&F$18) -> 10 | G22: =COUNTIFS(Magi!$A$1:$A$1407,"="&$A22,Magi!$D$1:$D$1407,"="&G$18) -> 3 | H22: =COUNTIFS(Magi!$A$1:$A$1407,"="&$A22,Magi!$D$1:$D$1407,"="&H$18) -> 6 | I22: =COUNTIFS(Magi!$A$1:$A$1407,"="&$A22,Magi!$D$1:$D$1407,"="&I$18) -> 1 | ... O22: =COUNTIFS(Magi!$A$1:$A$1407,"="&$A22,Magi!$D$1:$D$1407,"="&O$18) -> 7 | P22: =SUM(B22:O22) -> 59 | R22: 59 magi, 48 in covenants, the rest hermits/wanderers; Flambeau, Verditius, Criamon and Jerbiton are most common, followed by members of Houses Tremere and Tytalus
A23: Loch Leglean | B23: =COUNTIFS(Magi!$A$1:$A$1407,"="&$A23,Magi!$D$1:$D$1407,"="&B$18) -> 9 | C23: =COUNTIFS(Magi!$A$1:$A$1407,"="&$A23,Magi!$D$1:$D$1407,"="&C$18) -> 5 | D23: =COUNTIFS(Magi!$A$1:$A$1407,"="&$A23,Magi!$D$1:$D$1407,"="&D$18) -> 4 | E23: =COUNTIFS(Magi!$A$1:$A$1407,"="&$A23,Magi!$D$1:$D$1407,"="&E$18) -> 50 | F23: =COUNTIFS(Magi!$A$1:$A$1407,"="&$A23,Magi!$D$1:$D$1407,"="&F$18) -> 4 | G23: =COUNTIFS(Magi!$A$1:$A$1407,"="&$A23,Magi!$D$1:$D$1407,"="&G$18) -> 4 | H23: =COUNTIFS(Magi!$A$1:$A$1407,"="&$A23,Magi!$D$1:$D$1407,"="&H$18) -> 1 | I23: =COUNTIFS(Magi!$A$1:$A$1407,"="&$A23,Magi!$D$1:$D$1407,"="&I$18) -> 0 | ... O23: =COUNTIFS(Magi!$A$1:$A$1407,"="&$A23,Magi!$D$1:$D$1407,"="&O$18) -> 4 | P23: =SUM(B23:O23) -> 100 | R23: 100 magi, 50 Ex Misc, 10 Merinita, other Houses less than 10; Houses Mercere and Quaesitor have only one member each in the tribunal
A24: Normandy | B24: =COUNTIFS(Magi!$A$1:$A$1407,"="&$A24,Magi!$D$1:$D$1407,"="&B$18) -> 4 | C24: =COUNTIFS(Magi!$A$1:$A$1407,"="&$A24,Magi!$D$1:$D$1407,"="&C$18) -> 4 | D24: =COUNTIFS(Magi!$A$1:$A$1407,"="&$A24,Magi!$D$1:$D$1407,"="&D$18) -> 2 | E24: =COUNTIFS(Magi!$A$1:$A$1407,"="&$A24,Magi!$D$1:$D$1407,"="&E$18) -> 12 | F24: =COUNTIFS(Magi!$A$1:$A$1407,"="&$A24,Magi!$D$1:$D$1407,"="&F$18) -> 14 | G24: =COUNTIFS(Magi!$A$1:$A$1407,"="&$A24,Magi!$D$1:$D$1407,"="&G$18) -> 8 | H24: =COUNTIFS(Magi!$A$1:$A$1407,"="&$A24,Magi!$D$1:$D$1407,"="&H$18) -> 9 | I24: =COUNTIFS(Magi!$A$1:$A$1407,"="&$A24,Magi!$D$1:$D$1407,"="&I$18) -> 0 | ... O24: =COUNTIFS(Magi!$A$1:$A$1407,"="&$A24,Magi!$D$1:$D$1407,"="&O$18) -> 10 | P24: =SUM(B24:O24) -> 94
A25: Novgorod | B25: =COUNTIFS(Magi!$A$1:$A$1407,"="&$A25,Magi!$D$1:$D$1407,"="&B$18) -> 18 | C25: =COUNTIFS(Magi!$A$1:$A$1407,"="&$A25,Magi!$D$1:$D$1407,"="&C$18) -> 1 | D25: =COUNTIFS(Magi!$A$1:$A$1407,"="&$A25,Magi!$D$1:$D$1407,"="&D$18) -> 2 | E25: =COUNTIFS(Magi!$A$1:$A$1407,"="&$A25,Magi!$D$1:$D$1407,"="&E$18) -> 10 | F25: =COUNTIFS(Magi!$A$1:$A$1407,"="&$A25,Magi!$D$1:$D$1407,"="&F$18) -> 7 | G25: =COUNTIFS(Magi!$A$1:$A$1407,"="&$A25,Magi!$D$1:$D$1407,"="&G$18) -> 4 | H25: =COUNTIFS(Magi!$A$1:$A$1407,"="&$A25,Magi!$D$1:$D$1407,"="&H$18) -> 4 | I25: =COUNTIFS(Magi!$A$1:$A$1407,"="&$A25,Magi!$D$1:$D$1407,"="&I$18) -> 1 | ... O25: =COUNTIFS(Magi!$A$1:$A$1407,"="&$A25,Magi!$D$1:$D$1407,"="&O$18) -> 7 | P25: =SUM(B25:O25) -> 65
A26: Provence | B26: =COUNTIFS(Magi!$A$1:$A$1407,"="&$A26,Magi!$D$1:$D$1407,"="&B$18) -> 4 | C26: =COUNTIFS(Magi!$A$1:$A$1407,"="&$A26,Magi!$D$1:$D$1407,"="&C$18) -> 10 | D26: =COUNTIFS(Magi!$A$1:$A$1407,"="&$A26,Magi!$D$1:$D$1407,"="&D$18) -> 16 | E26: =COUNTIFS(Magi!$A$1:$A$1407,"="&$A26,Magi!$D$1:$D$1407,"="&E$18) -> 18 | F26: =COUNTIFS(Magi!$A$1:$A$1407,"="&$A26,Magi!$D$1:$D$1407,"="&F$18) -> 19 | G26: =COUNTIFS(Magi!$A$1:$A$1407,"="&$A26,Magi!$D$1:$D$1407,"="&G$18) -> 9 | H26: =COUNTIFS(Magi!$A$1:$A$1407,"="&$A26,Magi!$D$1:$D$1407,"="&H$18) -> 21 | I26: =COUNTIFS(Magi!$A$1:$A$1407,"="&$A26,Magi!$D$1:$D$1407,"="&I$18) -> 2 | ... O26: =COUNTIFS(Magi!$A$1:$A$1407,"="&$A26,Magi!$D$1:$D$1407,"="&O$18) -> 10 | P26: =SUM(B26:O26) -> 134 | R26: 19 Flambeau
A27: Rhine | B27: =COUNTIFS(Magi!$A$1:$A$1407,"="&$A27,Magi!$D$1:$D$1407,"="&B$18) -> 14 | C27: =COUNTIFS(Magi!$A$1:$A$1407,"="&$A27,Magi!$D$1:$D$1407,"="&C$18) -> 21 | D27: =COUNTIFS(Magi!$A$1:$A$1407,"="&$A27,Magi!$D$1:$D$1407,"="&D$18) -> 9 | E27: =COUNTIFS(Magi!$A$1:$A$1407,"="&$A27,Magi!$D$1:$D$1407,"="&E$18) -> 15 | F27: =COUNTIFS(Magi!$A$1:$A$1407,"="&$A27,Magi!$D$1:$D$1407,"="&F$18) -> 7 | G27: =COUNTIFS(Magi!$A$1:$A$1407,"="&$A27,Magi!$D$1:$D$1407,"="&G$18) -> 4 | H27: =COUNTIFS(Magi!$A$1:$A$1407,"="&$A27,Magi!$D$1:$D$1407,"="&H$18) -> 8 | I27: =COUNTIFS(Magi!$A$1:$A$1407,"="&$A27,Magi!$D$1:$D$1407,"="&I$18) -> 1 | ... O27: =COUNTIFS(Magi!$A$1:$A$1407,"="&$A27,Magi!$D$1:$D$1407,"="&O$18) -> 10 | P27: =SUM(B27:O27) -> 122
A28: Roman | B28: =COUNTIFS(Magi!$A$1:$A$1407,"="&$A28,Magi!$D$1:$D$1407,"="&B$18) -> 3 | C28: =COUNTIFS(Magi!$A$1:$A$1407,"="&$A28,Magi!$D$1:$D$1407,"="&C$18) -> 11 | D28: =COUNTIFS(Magi!$A$1:$A$1407,"="&$A28,Magi!$D$1:$D$1407,"="&D$18) -> 3 | E28: =COUNTIFS(Magi!$A$1:$A$1407,"="&$A28,Magi!$D$1:$D$1407,"="&E$18) -> 10 | F28: =COUNTIFS(Magi!$A$1:$A$1407,"="&$A28,Magi!$D$1:$D$1407,"="&F$18) -> 5 | G28: =COUNTIFS(Magi!$A$1:$A$1407,"="&$A28,Magi!$D$1:$D$1407,"="&G$18) -> 15 | H28: =COUNTIFS(Magi!$A$1:$A$1407,"="&$A28,Magi!$D$1:$D$1407,"="&H$18) -> 15 | I28: =COUNTIFS(Magi!$A$1:$A$1407,"="&$A28,Magi!$D$1:$D$1407,"="&I$18) -> 2 | ... O28: =COUNTIFS(Magi!$A$1:$A$1407,"="&$A28,Magi!$D$1:$D$1407,"="&O$18) -> 21 | P28: =SUM(B28:O28) -> 116
A29: Stonehenge | B29: =COUNTIFS(Magi!$A$1:$A$1407,"="&$A29,Magi!$D$1:$D$1407,"="&B$18) -> 4 | C29: =COUNTIFS(Magi!$A$1:$A$1407,"="&$A29,Magi!$D$1:$D$1407,"="&C$18) -> 3 | D29: =COUNTIFS(Magi!$A$1:$A$1407,"="&$A29,Magi!$D$1:$D$1407,"="&D$18) -> 3 | E29: =COUNTIFS(Magi!$A$1:$A$1407,"="&$A29,Magi!$D$1:$D$1407,"="&E$18) -> 13 | F29: =COUNTIFS(Magi!$A$1:$A$1407,"="&$A29,Magi!$D$1:$D$1407,"="&F$18) -> 6 | G29: =COUNTIFS(Magi!$A$1:$A$1407,"="&$A29,Magi!$D$1:$D$1407,"="&G$18) -> 6 | H29: =COUNTIFS(Magi!$A$1:$A$1407,"="&$A29,Magi!$D$1:$D$1407,"="&H$18) -> 6 | I29: =COUNTIFS(Magi!$A$1:$A$1407,"="&$A29,Magi!$D$1:$D$1407,"="&I$18) -> 1 | ... O29: =COUNTIFS(Magi!$A$1:$A$1407,"="&$A29,Magi!$D$1:$D$1407,"="&O$18) -> 6 | P29: =SUM(B29:O29) -> 70
A30: Theban | B30: =COUNTIFS(Magi!$A$1:$A$1407,"="&$A30,Magi!$D$1:$D$1407,"="&B$18) -> 2 | C30: =COUNTIFS(Magi!$A$1:$A$1407,"="&$A30,Magi!$D$1:$D$1407,"="&C$18) -> 3 | D30: =COUNTIFS(Magi!$A$1:$A$1407,"="&$A30,Magi!$D$1:$D$1407,"="&D$18) -> 8 | E30: =COUNTIFS(Magi!$A$1:$A$1407,"="&$A30,Magi!$D$1:$D$1407,"="&E$18) -> 17 | F30: =COUNTIFS(Magi!$A$1:$A$1407,"="&$A30,Magi!$D$1:$D$1407,"="&F$18) -> 8 | G30: =COUNTIFS(Magi!$A$1:$A$1407,"="&$A30,Magi!$D$1:$D$1407,"="&G$18) -> 7 | H30: =COUNTIFS(Magi!$A$1:$A$1407,"="&$A30,Magi!$D$1:$D$1407,"="&H$18) -> 15 | I30: =COUNTIFS(Magi!$A$1:$A$1407,"="&$A30,Magi!$D$1:$D$1407,"="&I$18) -> 0 | ... O30: =COUNTIFS(Magi!$A$1:$A$1407,"="&$A30,Magi!$D$1:$D$1407,"="&O$18) -> 15 | P30: =SUM(B30:O30) -> 102 | R30: About 100 magi
A31: Transylvanian | B31: =COUNTIFS(Magi!$A$1:$A$1407,"="&$A31,Magi!$D$1:$D$1407,"="&B$18) -> 2 | C31: =COUNTIFS(Magi!$A$1:$A$1407,"="&$A31,Magi!$D$1:$D$1407,"="&C$18) -> 4 | D31: =COUNTIFS(Magi!$A$1:$A$1407,"="&$A31,Magi!$D$1:$D$1407,"="&D$18) -> 2 | E31: =COUNTIFS(Magi!$A$1:$A$1407,"="&$A31,Magi!$D$1:$D$1407,"="&E$18) -> 8 | F31: =COUNTIFS(Magi!$A$1:$A$1407,"="&$A31,Magi!$D$1:$D$1407,"="&F$18) -> 3 | G31: =COUNTIFS(Magi!$A$1:$A$1407,"="&$A31,Magi!$D$1:$D$1407,"="&G$18) -> 11 | H31: =COUNTIFS(Magi!$A$1:$A$1407,"="&$A31,Magi!$D$1:$D$1407,"="&H$18) -> 0 | I31: =COUNTIFS(Magi!$A$1:$A$1407,"="&$A31,Magi!$D$1:$D$1407,"="&I$18) -> 2 | ... O31: =COUNTIFS(Magi!$A$1:$A$1407,"="&$A31,Magi!$D$1:$D$1407,"="&O$18) -> 15 | P31: =SUM(B31:O31) -> 97 | R31: 41 Tremere
A32: Unknown | B32: =COUNTIFS(Magi!$A$1:$A$1407,"="&$A32,Magi!$D$1:$D$1407,"="&B$18) -> 1 | C32: =COUNTIFS(Magi!$A$1:$A$1407,"="&$A32,Magi!$D$1:$D$1407,"="&C$18) -> 3 | D32: =COUNTIFS(Magi!$A$1:$A$1407,"="&$A32,Magi!$D$1:$D$1407,"="&D$18) -> 4 | E32: =COUNTIFS(Magi!$A$1:$A$1407,"="&$A32,Magi!$D$1:$D$1407,"="&E$18) -> 2 | F32: =COUNTIFS(Magi!$A$1:$A$1407,"="&$A32,Magi!$D$1:$D$1407,"="&F$18) -> 5 | G32: =COUNTIFS(Magi!$A$1:$A$1407,"="&$A32,Magi!$D$1:$D$1407,"="&G$18) -> 4 | H32: =COUNTIFS(Magi!$A$1:$A$1407,"="&$A32,Magi!$D$1:$D$1407,"="&H$18) -> 4 | I32: =COUNTIFS(Magi!$A$1:$A$1407,"="&$A32,Magi!$D$1:$D$1407,"="&I$18) -> 0 | ... O32: =COUNTIFS(Magi!$A$1:$A$1407,"="&$A32,Magi!$D$1:$D$1407,"="&O$18) -> 1 | P32: =SUM(B32:O32) -> 40
B33: =SUM(B19:B32) -> 79 | C33: =SUM(C19:C32) -> 81 | D33: =SUM(D19:D32) -> 94 | E33: =SUM(E19:E32) -> 180 | F33: =SUM(F19:F32) -> 114 | G33: =SUM(G19:G32) -> 98 | H33: =SUM(H19:H32) -> 125 | I33: =SUM(I19:I32) -> 12 | ... O33: =SUM(O19:O32) -> 151 | P33: =SUM(B33:O33) -> 1282
A34: from HoH | B34: 79 | C34: 81 | D34: 94 | E34: 180 | F34: 114 | G34: 98 | H34: 102 | I34: 12 | J34: 68 | K34: 92 | L34: 96 | M34: 74 | O34: 150 | P34: =SUM(B34:O34) -> 1240
A36: Archmages | B36: Bjornaer | C36: Bonisagus | D36: Criamon | E36: Ex Miscellanea | F36: Flambeau | G36: Guernicus | H36: Jerbiton | I36: Mercere | J36: Merinita | K36: Tremere | L36: Tytalus | M36: Verditius | N36: Unknown | O36: Redcap | P36: Archmages | Q36: Total Magi
A37: Greater Alps | B37: =COUNTIFS(Magi!$A$1:$A$1407,"="&$A37,Magi!$D$1:$D$1407,"="&B$18,Magi!$I$1:$I$1407,"=Archmage") -> 0 | C37: =COUNTIFS(Magi!$A$1:$A$1407,"="&$A37,Magi!$D$1:$D$1407,"="&C$18,Magi!$I$1:$I$1407,"=Archmage") -> 1 | D37: =COUNTIFS(Magi!$A$1:$A$1407,"="&$A37,Magi!$D$1:$D$1407,"="&D$18,Magi!$I$1:$I$1407,"=Archmage") -> 1 | E37: =COUNTIFS(Magi!$A$1:$A$1407,"="&$A37,Magi!$D$1:$D$1407,"="&E$18,Magi!$I$1:$I$1407,"=Archmage") -> 0 | F37: =COUNTIFS(Magi!$A$1:$A$1407,"="&$A37,Magi!$D$1:$D$1407,"="&F$18,Magi!$I$1:$I$1407,"=Archmage") -> 2 | G37: =COUNTIFS(Magi!$A$1:$A$1407,"="&$A37,Magi!$D$1:$D$1407,"="&G$18,Magi!$I$1:$I$1407,"=Archmage") -> 0 | H37: =COUNTIFS(Magi!$A$1:$A$1407,"="&$A37,Magi!$D$1:$D$1407,"="&H$18,Magi!$I$1:$I$1407,"=Archmage") -> 2 | I37: =COUNTIFS(Magi!$A$1:$A$1407,"="&$A37,Magi!$D$1:$D$1407,"="&I$18,Magi!$I$1:$I$1407,"=Archmage") -> 0 | ... O37: =COUNTIFS(Magi!$A$1:$A$1407,"="&$A37,Magi!$D$1:$D$1407,"="&O$18,Magi!$I$1:$I$1407,"=Archmage") -> 0 | P37: =SUM(B37:O37) -> 8 | Q37: =P19 -> 100 | R37: =P37/Q37 -> 0.08
A38: Hibernia | B38: =COUNTIFS(Magi!$A$1:$A$1407,"="&$A38,Magi!$D$1:$D$1407,"="&B$18,Magi!$I$1:$I$1407,"=Archmage") -> 1 | C38: =COUNTIFS(Magi!$A$1:$A$1407,"="&$A38,Magi!$D$1:$D$1407,"="&C$18,Magi!$I$1:$I$1407,"=Archmage") -> 0 | D38: =COUNTIFS(Magi!$A$1:$A$1407,"="&$A38,Magi!$D$1:$D$1407,"="&D$18,Magi!$I$1:$I$1407,"=Archmage") -> 0 | E38: =COUNTIFS(Magi!$A$1:$A$1407,"="&$A38,Magi!$D$1:$D$1407,"="&E$18,Magi!$I$1:$I$1407,"=Archmage") -> 0 | F38: =COUNTIFS(Magi!$A$1:$A$1407,"="&$A38,Magi!$D$1:$D$1407,"="&F$18,Magi!$I$1:$I$1407,"=Archmage") -> 0 | G38: =COUNTIFS(Magi!$A$1:$A$1407,"="&$A38,Magi!$D$1:$D$1407,"="&G$18,Magi!$I$1:$I$1407,"=Archmage") -> 0 | H38: =COUNTIFS(Magi!$A$1:$A$1407,"="&$A38,Magi!$D$1:$D$1407,"="&H$18,Magi!$I$1:$I$1407,"=Archmage") -> 0 | I38: =COUNTIFS(Magi!$A$1:$A$1407,"="&$A38,Magi!$D$1:$D$1407,"="&I$18,Magi!$I$1:$I$1407,"=Archmage") -> 0 | ... O38: =COUNTIFS(Magi!$A$1:$A$1407,"="&$A38,Magi!$D$1:$D$1407,"="&O$18,Magi!$I$1:$I$1407,"=Archmage") -> 0 | P38: =SUM(B38:O38) -> 3 | Q38: =P20 -> 77 | R38: =P38/Q38 -> 0.038961039
A39: Iberia | B39: =COUNTIFS(Magi!$A$1:$A$1407,"="&$A39,Magi!$D$1:$D$1407,"="&B$18,Magi!$I$1:$I$1407,"=Archmage") -> 0 | C39: =COUNTIFS(Magi!$A$1:$A$1407,"="&$A39,Magi!$D$1:$D$1407,"="&C$18,Magi!$I$1:$I$1407,"=Archmage") -> 1 | D39: =COUNTIFS(Magi!$A$1:$A$1407,"="&$A39,Magi!$D$1:$D$1407,"="&D$18,Magi!$I$1:$I$1407,"=Archmage") -> 1 | E39: =COUNTIFS(Magi!$A$1:$A$1407,"="&$A39,Magi!$D$1:$D$1407,"="&E$18,Magi!$I$1:$I$1407,"=Archmage") -> 0 | F39: =COUNTIFS(Magi!$A$1:$A$1407,"="&$A39,Magi!$D$1:$D$1407,"="&F$18,Magi!$I$1:$I$1407,"=Archmage") -> 2 | G39: =COUNTIFS(Magi!$A$1:$A$1407,"="&$A39,Magi!$D$1:$D$1407,"="&G$18,Magi!$I$1:$I$1407,"=Archmage") -> 1 | H39: =COUNTIFS(Magi!$A$1:$A$1407,"="&$A39,Magi!$D$1:$D$1407,"="&H$18,Magi!$I$1:$I$1407,"=Archmage") -> 0 | I39: =COUNTIFS(Magi!$A$1:$A$1407,"="&$A39,Magi!$D$1:$D$1407,"="&I$18,Magi!$I$1:$I$1407,"=Archmage") -> 0 | ... O39: =COUNTIFS(Magi!$A$1:$A$1407,"="&$A39,Magi!$D$1:$D$1407,"="&O$18,Magi!$I$1:$I$1407,"=Archmage") -> 0 | P39: =SUM(B39:O39) -> 6 | Q39: =P21 -> 106 | R39: =P39/Q39 -> 0.056603774
A40: Levant | B40: =COUNTIFS(Magi!$A$1:$A$1407,"="&$A40,Magi!$D$1:$D$1407,"="&B$18,Magi!$I$1:$I$1407,"=Archmage") -> 0 | C40: =COUNTIFS(Magi!$A$1:$A$1407,"="&$A40,Magi!$D$1:$D$1407,"="&C$18,Magi!$I$1:$I$1407,"=Archmage") -> 0 | D40: =COUNTIFS(Magi!$A$1:$A$1407,"="&$A40,Magi!$D$1:$D$1407,"="&D$18,Magi!$I$1:$I$1407,"=Archmage") -> 1 | E40: =COUNTIFS(Magi!$A$1:$A$1407,"="&$A40,Magi!$D$1:$D$1407,"="&E$18,Magi!$I$1:$I$1407,"=Archmage") -> 0 | F40: =COUNTIFS(Magi!$A$1:$A$1407,"="&$A40,Magi!$D$1:$D$1407,"="&F$18,Magi!$I$1:$I$1407,"=Archmage") -> 1 | G40: =COUNTIFS(Magi!$A$1:$A$1407,"="&$A40,Magi!$D$1:$D$1407,"="&G$18,Magi!$I$1:$I$1407,"=Archmage") -> 0 | H40: =COUNTIFS(Magi!$A$1:$A$1407,"="&$A40,Magi!$D$1:$D$1407,"="&H$18,Magi!$I$1:$I$1407,"=Archmage") -> 1 | I40: =COUNTIFS(Magi!$A$1:$A$1407,"="&$A40,Magi!$D$1:$D$1407,"="&I$18,Magi!$I$1:$I$1407,"=Archmage") -> 0 | ... O40: =COUNTIFS(Magi!$A$1:$A$1407,"="&$A40,Magi!$D$1:$D$1407,"="&O$18,Magi!$I$1:$I$1407,"=Archmage") -> 0 | P40: =SUM(B40:O40) -> 3 | Q40: =P22 -> 59 | R40: =P40/Q40 -> 0.050847458
A41: Loch Leglean | B41: =COUNTIFS(Magi!$A$1:$A$1407,"="&$A41,Magi!$D$1:$D$1407,"="&B$18,Magi!$I$1:$I$1407,"=Archmage") -> 1 | C41: =COUNTIFS(Magi!$A$1:$A$1407,"="&$A41,Magi!$D$1:$D$1407,"="&C$18,Magi!$I$1:$I$1407,"=Archmage") -> 0 | D41: =COUNTIFS(Magi!$A$1:$A$1407,"="&$A41,Magi!$D$1:$D$1407,"="&D$18,Magi!$I$1:$I$1407,"=Archmage") -> 1 | E41: =COUNTIFS(Magi!$A$1:$A$1407,"="&$A41,Magi!$D$1:$D$1407,"="&E$18,Magi!$I$1:$I$1407,"=Archmage") -> 0 | F41: =COUNTIFS(Magi!$A$1:$A$1407,"="&$A41,Magi!$D$1:$D$1407,"="&F$18,Magi!$I$1:$I$1407,"=Archmage") -> 0 | G41: =COUNTIFS(Magi!$A$1:$A$1407,"="&$A41,Magi!$D$1:$D$1407,"="&G$18,Magi!$I$1:$I$1407,"=Archmage") -> 0 | H41: =COUNTIFS(Magi!$A$1:$A$1407,"="&$A41,Magi!$D$1:$D$1407,"="&H$18,Magi!$I$1:$I$1407,"=Archmage") -> 0 | I41: =COUNTIFS(Magi!$A$1:$A$1407,"="&$A41,Magi!$D$1:$D$1407,"="&I$18,Magi!$I$1:$I$1407,"=Archmage") -> 0 | ... O41: =COUNTIFS(Magi!$A$1:$A$1407,"="&$A41,Magi!$D$1:$D$1407,"="&O$18,Magi!$I$1:$I$1407,"=Archmage") -> 0 | P41: =SUM(B41:O41) -> 5 | Q41: =P23 -> 100 | R41: =P41/Q41 -> 0.05
A42: Normandy | B42: =COUNTIFS(Magi!$A$1:$A$1407,"="&$A42,Magi!$D$1:$D$1407,"="&B$18,Magi!$I$1:$I$1407,"=Archmage") -> 0 | C42: =COUNTIFS(Magi!$A$1:$A$1407,"="&$A42,Magi!$D$1:$D$1407,"="&C$18,Magi!$I$1:$I$1407,"=Archmage") -> 0 | D42: =COUNTIFS(Magi!$A$1:$A$1407,"="&$A42,Magi!$D$1:$D$1407,"="&D$18,Magi!$I$1:$I$1407,"=Archmage") -> 0 | E42: =COUNTIFS(Magi!$A$1:$A$1407,"="&$A42,Magi!$D$1:$D$1407,"="&E$18,Magi!$I$1:$I$1407,"=Archmage") -> 0 | F42: =COUNTIFS(Magi!$A$1:$A$1407,"="&$A42,Magi!$D$1:$D$1407,"="&F$18,Magi!$I$1:$I$1407,"=Archmage") -> 2 | G42: =COUNTIFS(Magi!$A$1:$A$1407,"="&$A42,Magi!$D$1:$D$1407,"="&G$18,Magi!$I$1:$I$1407,"=Archmage") -> 1 | H42: =COUNTIFS(Magi!$A$1:$A$1407,"="&$A42,Magi!$D$1:$D$1407,"="&H$18,Magi!$I$1:$I$1407,"=Archmage") -> 1 | I42: =COUNTIFS(Magi!$A$1:$A$1407,"="&$A42,Magi!$D$1:$D$1407,"="&I$18,Magi!$I$1:$I$1407,"=Archmage") -> 0 | ... O42: =COUNTIFS(Magi!$A$1:$A$1407,"="&$A42,Magi!$D$1:$D$1407,"="&O$18,Magi!$I$1:$I$1407,"=Archmage") -> 0 | P42: =SUM(B42:O42) -> 7 | Q42: =P24 -> 94 | R42: =P42/Q42 -> 0.074468085
A43: Novgorod | B43: =COUNTIFS(Magi!$A$1:$A$1407,"="&$A43,Magi!$D$1:$D$1407,"="&B$18,Magi!$I$1:$I$1407,"=Archmage") -> 2 | C43: =COUNTIFS(Magi!$A$1:$A$1407,"="&$A43,Magi!$D$1:$D$1407,"="&C$18,Magi!$I$1:$I$1407,"=Archmage") -> 0 | D43: =COUNTIFS(Magi!$A$1:$A$1407,"="&$A43,Magi!$D$1:$D$1407,"="&D$18,Magi!$I$1:$I$1407,"=Archmage") -> 0 | E43: =COUNTIFS(Magi!$A$1:$A$1407,"="&$A43,Magi!$D$1:$D$1407,"="&E$18,Magi!$I$1:$I$1407,"=Archmage") -> 0 | F43: =COUNTIFS(Magi!$A$1:$A$1407,"="&$A43,Magi!$D$1:$D$1407,"="&F$18,Magi!$I$1:$I$1407,"=Archmage") -> 0 | G43: =COUNTIFS(Magi!$A$1:$A$1407,"="&$A43,Magi!$D$1:$D$1407,"="&G$18,Magi!$I$1:$I$1407,"=Archmage") -> 1 | H43: =COUNTIFS(Magi!$A$1:$A$1407,"="&$A43,Magi!$D$1:$D$1407,"="&H$18,Magi!$I$1:$I$1407,"=Archmage") -> 0 | I43: =COUNTIFS(Magi!$A$1:$A$1407,"="&$A43,Magi!$D$1:$D$1407,"="&I$18,Magi!$I$1:$I$1407,"=Archmage") -> 0 | ... O43: =COUNTIFS(Magi!$A$1:$A$1407,"="&$A43,Magi!$D$1:$D$1407,"="&O$18,Magi!$I$1:$I$1407,"=Archmage") -> 0 | P43: =SUM(B43:O43) -> 3 | Q43: =P25 -> 65 | R43: =P43/Q43 -> 0.046153846
...

Sheet Tribunal Statistics
A2: Loch Leglean | B2: =COUNTIFS(Magi!$A$1:$A$1407,"="&A2) -> 100
A3: Wanderer | B3: =COUNTIFS(Magi!$A$1:$A$1407,"=Loch Leglean",Magi!$B$1:$B$1407,"="&A3) -> 25 | E3: „one fourth“
A5: Rhine | B5: =COUNTIFS(Magi!$A$1:$A$1407,"="&A5) -> 122
A6: Eichengilde | B6: =COUNTIFS(Magi!$O$1:$O$1407,"="&A6)+1 -> 30 | C6: =B6/B$5 -> 0.24590164 | E6: „a quarter“
A7: Lindengilde | B7: =COUNTIFS(Magi!$O$1:$O$1407,"="&A7)+1 -> 22 | C7: =B7/B$5 -> 0.18032787 | E7: „nearly a fifth“
A8: Apfelgilde | B8: =COUNTIFS(Magi!$O$1:$O$1407,"="&A8)+3 -> 18 | C8: =B8/B$5 -> 0.14754098
A9: Holundergilde | B9: =COUNTIFS(Magi!$O$1:$O$1407,"="&A9)+1 -> 16 | C9: =B9/B$5 -> 0.13114754
A10: Eschengilde | B10: =COUNTIFS(Magi!$O$1:$O$1407,"="&A10)+1 -> 15 | C10: =B10/B$5 -> 0.12295082
A11: Weissdorngilde | B11: =COUNTIFS(Magi!$O$1:$O$1407,"="&A11)+1 -> 13 | C11: =B11/B$5 -> 0.10655738
A12: No gild | B12: =COUNTIFS(Magi!$O$1:$O$1407,"="&A12) -> 8 | C12: =B12/B$5 -> 0.06557377 | E12: „less than a tenth“
B13: =SUM(B6:B12) -> 122
A15: Archmage | B15: =COUNTIFS(Magi!$A$1:$A$1407,"=Rhine",Magi!$I$1:$I$1407,"="&A15) -> 12
A16: Master | B16: =COUNTIFS(Magi!$A$1:$A$1407,"=Rhine",Magi!$I$1:$I$1407,"="&A16) -> 50
A17: Journeyman | B17: =COUNTIFS(Magi!$A$1:$A$1407,"=Rhine",Magi!$I$1:$I$1407,"="&A17) -> 58
B18: =SUM(B15:B17) -> 120
A20: Peregrinator | B20: =COUNTIFS(Magi!$A$1:$A$1407,"=Rhine",Magi!$B$1:$B$1407,"="&A20) -> 19 | C20: =B20/B$5 -> 0.1557377 | E20: „around a sixth“ [GotF p.20]

Sheet Population Statistics
A1: Gender
A2: Total | D2: =TotalMagi -> 1282
A3: M | C3: =COUNTIFS(Magi!$F$1:$F$1407,"="&A3) -> 465 | D3: =C3/D$2 -> 0.36271451
A4: F | C4: =COUNTIFS(Magi!$F$1:$F$1407,"="&A4) -> 255 | D4: =C4/D$2 -> 0.19890796
A5: D | C5: =COUNTIFS(Magi!$F$1:$F$1407,"="&A5) -> 1 | D5: =C5/D$2 -> 0.0007800312
A6: Sum | C6: =SUM(C3:C5) -> 721 | D6: =C6/D$2 -> 0.5624025
L7: House | M7: Bonisagus
A8: Age | B8: … to … | C8: magi | E8: M | G8: F | I8: D | L8: Age | M8: … to … | N8: magi | P8: M | R8: F | T8: D
A9: 0 | B9: 25 | C9: =COUNTIFS(Magi!$G$1:$G$1407,">"&$A9,Magi!$G$1:$G$1407,"<="&$B9) -> 14 | D9: =C9/$D$2 -> 0.010920437 | E9: =COUNTIFS(Magi!$G$1:$G$1407,">"&$A9,Magi!$G$1:$G$1407,"<="&$B9,Magi!$F$1:$F$1407,"="&E$8) -> 9 | F9: =E9/$D$2 -> 0.0070202808 | G9: =COUNTIFS(Magi!$G$1:$G$1407,">"&$A9,Magi!$G$1:$G$1407,"<="&$B9,Magi!$F$1:$F$1407,"="&G$8) -> 5 | H9: =G9/$D$2 -> 0.003900156 | I9: =COUNTIFS(Magi!$G$1:$G$1407,">"&$A9,Magi!$G$1:$G$1407,"<="&$B9,Magi!$F$1:$F$1407,"="&I$8) -> 0 | J9: =I9/$D$2 -> 0 | L9: 0 | M9: 25 | N9: =COUNTIFS(Magi!$D$1:$D$1407,"="&$M$7,Magi!$G$1:$G$1407,">"&$A9,Magi!$G$1:$G$1407,"<="&$B9) -> 1 | O9: =N9/$D$2 -> 0.0007800312 | P9: =COUNTIFS(Magi!$D$1:$D$1407,"="&$M$7,Magi!$G$1:$G$1407,">"&$A9,Magi!$G$1:$G$1407,"<="&$B9,Magi!$F$1:$F$1407,"="&P$8) -> 0 | Q9: =P9/$D$2 -> 0 | R9: =COUNTIFS(Magi!$D$1:$D$1407,"="&$M$7,Magi!$G$1:$G$1407,">"&$A9,Magi!$G$1:$G$1407,"<="&$B9,Magi!$F$1:$F$1407,"="&R$8) -> 1 | S9: =R9/$D$2 -> 0.0007800312 | T9: =COUNTIFS(Magi!$D$1:$D$1407,"="&$M$7,Magi!$G$1:$G$1407,">"&$A9,Magi!$G$1:$G$1407,"<="&$B9,Magi!$F$1:$F$1407,"="&T$8) -> 0 | U9: =T9/$D$2 -> 0
A10: 25 | B10: =A10+15 -> 40 | C10: =COUNTIFS(Magi!$G$1:$G$1407,">"&A10,Magi!$G$1:$G$1407,"<="&B10) -> 79 | D10: =C10/$D$2 -> 0.061622465 | E10: =COUNTIFS(Magi!$G$1:$G$1407,">"&$A10,Magi!$G$1:$G$1407,"<="&$B10,Magi!$F$1:$F$1407,"="&E$8) -> 44 | F10: =E10/$D$2 -> 0.034321373 | G10: =COUNTIFS(Magi!$G$1:$G$1407,">"&$A10,Magi!$G$1:$G$1407,"<="&$B10,Magi!$F$1:$F$1407,"="&G$8) -> 33 | H10: =G10/$D$2 -> 0.02574103 | I10: =COUNTIFS(Magi!$G$1:$G$1407,">"&$A10,Magi!$G$1:$G$1407,"<="&$B10,Magi!$F$1:$F$1407,"="&I$8) -> 0 | J10: =I10/$D$2 -> 0 | L10: 25 | M10: =L10+15 -> 40 | N10: =COUNTIFS(Magi!$D$1:$D$1407,"="&$M$7,Magi!$G$1:$G$1407,">"&$A10,Magi!$G$1:$G$1407,"<="&$B10) -> 9 | O10: =N10/$D$2 -> 0.0070202808 | P10: =COUNTIFS(Magi!$D$1:$D$1407,"="&$M$7,Magi!$G$1:$G$1407,">"&$A10,Magi!$G$1:$G$1407,"<="&$B10,Magi!$F$1:$F$1407,"="&P$8) -> 7 | Q10: =P10/$D$2 -> 0.0054602184 | R10: =COUNTIFS(Magi!$D$1:$D$1407,"="&$M$7,Magi!$G$1:$G$1407,">"&$A10,Magi!$G$1:$G$1407,"<="&$B10,Magi!$F$1:$F$1407,"="&R$8) -> 2 | S10: =R10/$D$2 -> 0.0015600624 | T10: =COUNTIFS(Magi!$D$1:$D$1407,"="&$M$7,Magi!$G$1:$G$1407,">"&$A10,Magi!$G$1:$G$1407,"<="&$B10,Magi!$F$1:$F$1407,"="&T$8) -> 0 | U10: =T10/$D$2 -> 0
A11: =B10 -> 40 | B11: =A11+15 -> 55 | C11: =COUNTIFS(Magi!$G$1:$G$1407,">"&A11,Magi!$G$1:$G$1407,"<="&B11) -> 72 | D11: =C11/$D$2 -> 0.056162246 | E11: =COUNTIFS(Magi!$G$1:$G$1407,">"&$A11,Magi!$G$1:$G$1407,"<="&$B11,Magi!$F$1:$F$1407,"="&E$8) -> 51 | F11: =E11/$D$2 -> 0.039781591 | G11: =COUNTIFS(Magi!$G$1:$G$1407,">"&$A11,Magi!$G$1:$G$1407,"<="&$B11,Magi!$F$1:$F$1407,"="&G$8) -> 21 | H11: =G11/$D$2 -> 0.016380655 | I11: =COUNTIFS(Magi!$G$1:$G$1407,">"&$A11,Magi!$G$1:$G$1407,"<="&$B11,Magi!$F$1:$F$1407,"="&I$8) -> 0 | J11: =I11/$D$2 -> 0 | L11: =M10 -> 40 | M11: =L11+15 -> 55 | N11: =COUNTIFS(Magi!$D$1:$D$1407,"="&$M$7,Magi!$G$1:$G$1407,">"&$A11,Magi!$G$1:$G$1407,"<="&$B11) -> 4 | O11: =N11/$D$2 -> 0.0031201248 | P11: =COUNTIFS(Magi!$D$1:$D$1407,"="&$M$7,Magi!$G$1:$G$1407,">"&$A11,Magi!$G$1:$G$1407,"<="&$B11,Magi!$F$1:$F$1407,"="&P$8) -> 2 | Q11: =P11/$D$2 -> 0.0015600624 | R11: =COUNTIFS(Magi!$D$1:$D$1407,"="&$M$7,Magi!$G$1:$G$1407,">"&$A11,Magi!$G$1:$G$1407,"<="&$B11,Magi!$F$1:$F$1407,"="&R$8) -> 2 | S11: =R11/$D$2 -> 0.0015600624 | T11: =COUNTIFS(Magi!$D$1:$D$1407,"="&$M$7,Magi!$G$1:$G$1407,">"&$A11,Magi!$G$1:$G$1407,"<="&$B11,Magi!$F$1:$F$1407,"="&T$8) -> 0 | U11: =T11/$D$2 -> 0
A12: =B11 -> 55 | B12: =A12+15 -> 70 | C12: =COUNTIFS(Magi!$G$1:$G$1407,">"&A12,Magi!$G$1:$G$1407,"<="&B12) -> 77 | D12: =C12/$D$2 -> 0.060062402 | E12: =COUNTIFS(Magi!$G$1:$G$1407,">"&$A12,Magi!$G$1:$G$1407,"<="&$B12,Magi!$F$1:$F$1407,"="&E$8) -> 51 | F12: =E12/$D$2 -> 0.039781591 | G12: =COUNTIFS(Magi!$G$1:$G$1407,">"&$A12,Magi!$G$1:$G$1407,"<="&$B12,Magi!$F$1:$F$1407,"="&G$8) -> 25 | H12: =G12/$D$2 -> 0.01950078 | I12: =COUNTIFS(Magi!$G$1:$G$1407,">"&$A12,Magi!$G$1:$G$1407,"<="&$B12,Magi!$F$1:$F$1407,"="&I$8) -> 0 | J12: =I12/$D$2 -> 0 | L12: =M11 -> 55 | M12: =L12+15 -> 70 | N12: =COUNTIFS(Magi!$D$1:$D$1407,"="&$M$7,Magi!$G$1:$G$1407,">"&$A12,Magi!$G$1:$G$1407,"<="&$B12) -> 6 | O12: =N12/$D$2 -> 0.0046801872 | P12: =COUNTIFS(Magi!$D$1:$D$1407,"="&$M$7,Magi!$G$1:$G$1407,">"&$A12,Magi!$G$1:$G$1407,"<="&$B12,Magi!$F$1:$F$1407,"="&P$8) -> 4 | Q12: =P12/$D$2 -> 0.0031201248 | R12: =COUNTIFS(Magi!$D$1:$D$1407,"="&$M$7,Magi!$G$1:$G$1407,">"&$A12,Magi!$G$1:$G$1407,"<="&$B12,Magi!$F$1:$F$1407,"="&R$8) -> 2 | S12: =R12/$D$2 -> 0.0015600624 | T12: =COUNTIFS(Magi!$D$1:$D$1407,"="&$M$7,Magi!$G$1:$G$1407,">"&$A12,Magi!$G$1:$G$1407,"<="&$B12,Magi!$F$1:$F$1407,"="&T$8) -> 0 | U12: =T12/$D$2 -> 0
A13: =B12 -> 70 | B13: =A13+15 -> 85 | C13: =COUNTIFS(Magi!$G$1:$G$1407,">"&A13,Magi!$G$1:$G$1407,"<="&B13) -> 50 | D13: =C13/$D$2 -> 0.03900156 | E13: =COUNTIFS(Magi!$G$1:$G$1407,">"&$A13,Magi!$G$1:$G$1407,"<="&$B13,Magi!$F$1:$F$1407,"="&E$8) -> 30 | F13: =E13/$D$2 -> 0.023400936 | G13: =COUNTIFS(Magi!$G$1:$G$1407,">"&$A13,Magi!$G$1:$G$1407,"<="&$B13,Magi!$F$1:$F$1407,"="&G$8) -> 18 | H13: =G13/$D$2 -> 0.014040562 | I13: =COUNTIFS(Magi!$G$1:$G$1407,">"&$A13,Magi!$G$1:$G$1407,"<="&$B13,Magi!$F$1:$F$1407,"="&I$8) -> 0 | J13: =I13/$D$2 -> 0 | L13: =M12 -> 70 | M13: =L13+15 -> 85 | N13: =COUNTIFS(Magi!$D$1:$D$1407,"="&$M$7,Magi!$G$1:$G$1407,">"&$A13,Magi!$G$1:$G$1407,"<="&$B13) -> 3 | O13: =N13/$D$2 -> 0.0023400936 | P13: =COUNTIFS(Magi!$D$1:$D$1407,"="&$M$7,Magi!$G$1:$G$1407,">"&$A13,Magi!$G$1:$G$1407,"<="&$B13,Magi!$F$1:$F$1407,"="&P$8) -> 1 | Q13: =P13/$D$2 -> 0.0007800312 | R13: =COUNTIFS(Magi!$D$1:$D$1407,"="&$M$7,Magi!$G$1:$G$1407,">"&$A13,Magi!$G$1:$G$1407,"<="&$B13,Magi!$F$1:$F$1407,"="&R$8) -> 2 | S13: =R13/$D$2 -> 0.0015600624 | T13: =COUNTIFS(Magi!$D$1:$D$1407,"="&$M$7,Magi!$G$1:$G$1407,">"&$A13,Magi!$G$1:$G$1407,"<="&$B13,Magi!$F$1:$F$1407,"="&T$8) -> 0 | U13: =T13/$D$2 -> 0
A14: =B13 -> 85 | B14: =A14+15 -> 100 | C14: =COUNTIFS(Magi!$G$1:$G$1407,">"&A14,Magi!$G$1:$G$1407,"<="&B14) -> 52 | D14: =C14/$D$2 -> 0.040561622 | E14: =COUNTIFS(Magi!$G$1:$G$1407,">"&$A14,Magi!$G$1:$G$1407,"<="&$B14,Magi!$F$1:$F$1407,"="&E$8) -> 36 | F14: =E14/$D$2 -> 0.028081123 | G14: =COUNTIFS(Magi!$G$1:$G$1407,">"&$A14,Magi!$G$1:$G$1407,"<="&$B14,Magi!$F$1:$F$1407,"="&G$8) -> 15 | H14: =G14/$D$2 -> 0.011700468 | I14: =COUNTIFS(Magi!$G$1:$G$1407,">"&$A14,Magi!$G$1:$G$1407,"<="&$B14,Magi!$F$1:$F$1407,"="&I$8) -> 0 | J14: =I14/$D$2 -> 0 | L14: =M13 -> 85 | M14: =L14+15 -> 100 | N14: =COUNTIFS(Magi!$D$1:$D$1407,"="&$M$7,Magi!$G$1:$G$1407,">"&$A14,Magi!$G$1:$G$1407,"<="&$B14) -> 3 | O14: =N14/$D$2 -> 0.0023400936 | P14: =COUNTIFS(Magi!$D$1:$D$1407,"="&$M$7,Magi!$G$1:$G$1407,">"&$A14,Magi!$G$1:$G$1407,"<="&$B14,Magi!$F$1:$F$1407,"="&P$8) -> 1 | Q14: =P14/$D$2 -> 0.0007800312 | R14: =COUNTIFS(Magi!$D$1:$D$1407,"="&$M$7,Magi!$G$1:$G$1407,">"&$A14,Magi!$G$1:$G$1407,"<="&$B14,Magi!$F$1:$F$1407,"="&R$8) -> 2 | S14: =R14/$D$2 -> 0.0015600624 | T14: =COUNTIFS(Magi!$D$1:$D$1407,"="&$M$7,Magi!$G$1:$G$1407,">"&$A14,Magi!$G$1:$G$1407,"<="&$B14,Magi!$F$1:$F$1407,"="&T$8) -> 0 | U14: =T14/$D$2 -> 0
A15: =B14 -> 100 | B15: =A15+15 -> 115 | C15: =COUNTIFS(Magi!$G$1:$G$1407,">"&A15,Magi!$G$1:$G$1407,"<="&B15) -> 40 | D15: =C15/$D$2 -> 0.031201248 | E15: =COUNTIFS(Magi!$G$1:$G$1407,">"&$A15,Magi!$G$1:$G$1407,"<="&$B15,Magi!$F$1:$F$1407,"="&E$8) -> 26 | F15: =E15/$D$2 -> 0.020280811 | G15: =COUNTIFS(Magi!$G$1:$G$1407,">"&$A15,Magi!$G$1:$G$1407,"<="&$B15,Magi!$F$1:$F$1407,"="&G$8) -> 12 | H15: =G15/$D$2 -> 0.0093603744 | I15: =COUNTIFS(Magi!$G$1:$G$1407,">"&$A15,Magi!$G$1:$G$1407,"<="&$B15,Magi!$F$1:$F$1407,"="&I$8) -> 1 | J15: =I15/$D$2 -> 0.0007800312 | L15: =M14 -> 100 | M15: =L15+15 -> 115 | N15: =COUNTIFS(Magi!$D$1:$D$1407,"="&$M$7,Magi!$G$1:$G$1407,">"&$A15,Magi!$G$1:$G$1407,"<="&$B15) -> 4 | O15: =N15/$D$2 -> 0.0031201248 | P15: =COUNTIFS(Magi!$D$1:$D$1407,"="&$M$7,Magi!$G$1:$G$1407,">"&$A15,Magi!$G$1:$G$1407,"<="&$B15,Magi!$F$1:$F$1407,"="&P$8) -> 3 | Q15: =P15/$D$2 -> 0.0023400936 | R15: =COUNTIFS(Magi!$D$1:$D$1407,"="&$M$7,Magi!$G$1:$G$1407,">"&$A15,Magi!$G$1:$G$1407,"<="&$B15,Magi!$F$1:$F$1407,"="&R$8) -> 1 | S15: =R15/$D$2 -> 0.0007800312 | T15: =COUNTIFS(Magi!$D$1:$D$1407,"="&$M$7,Magi!$G$1:$G$1407,">"&$A15,Magi!$G$1:$G$1407,"<="&$B15,Magi!$F$1:$F$1407,"="&T$8) -> 0 | U15: =T15/$D$2 -> 0
A16: =B15 -> 115 | B16: =A16+15 -> 130 | C16: =COUNTIFS(Magi!$G$1:$G$1407,">"&A16,Magi!$G$1:$G$1407,"<="&B16) -> 19 | D16: =C16/$D$2 -> 0.014820593 | E16: =COUNTIFS(Magi!$G$1:$G$1407,">"&$A16,Magi!$G$1:$G$1407,"<="&$B16,Magi!$F$1:$F$1407,"="&E$8) -> 15 | F16: =E16/$D$2 -> 0.011700468 | G16: =COUNTIFS(Magi!$G$1:$G$1407,">"&$A16,Magi!$G$1:$G$1407,"<="&$B16,Magi!$F$1:$F$1407,"="&G$8) -> 4 | H16: =G16/$D$2 -> 0.0031201248 | I16: =COUNTIFS(Magi!$G$1:$G$1407,">"&$A16,Magi!$G$1:$G$1407,"<="&$B16,Magi!$F$1:$F$1407,"="&I$8) -> 0 | J16: =I16/$D$2 -> 0 | L16: =M15 -> 115 | M16: =L16+15 -> 130 | N16: =COUNTIFS(Magi!$D$1:$D$1407,"="&$M$7,Magi!$G$1:$G$1407,">"&$A16,Magi!$G$1:$G$1407,"<="&$B16) -> 1 | O16: =N16/$D$2 -> 0.0007800312 | P16: =COUNTIFS(Magi!$D$1:$D$1407,"="&$M$7,Magi!$G$1:$G$1407,">"&$A16,Magi!$G$1:$G$1407,"<="&$B16,Magi!$F$1:$F$1407,"="&P$8) -> 1 | Q16: =P16/$D$2 -> 0.0007800312 | R16: =COUNTIFS(Magi!$D$1:$D$1407,"="&$M$7,Magi!$G$1:$G$1407,">"&$A16,Magi!$G$1:$G$1407,"<="&$B16,Magi!$F$1:$F$1407,"="&R$8) -> 0 | S16: =R16/$D$2 -> 0 | T16: =COUNTIFS(Magi!$D$1:$D$1407,"="&$M$7,Magi!$G$1:$G$1407,">"&$A16,Magi!$G$1:$G$1407,"<="&$B16,Magi!$F$1:$F$1407,"="&T$8) -> 0 | U16: =T16/$D$2 -> 0
A17: =B16 -> 130 | B17: =A17+15 -> 145 | C17: =COUNTIFS(Magi!$G$1:$G$1407,">"&A17,Magi!$G$1:$G$1407,"<="&B17) -> 13 | D17: =C17/$D$2 -> 0.010140406 | E17: =COUNTIFS(Magi!$G$1:$G$1407,">"&$A17,Magi!$G$1:$G$1407,"<="&$B17,Magi!$F$1:$F$1407,"="&E$8) -> 9 | F17: =E17/$D$2 -> 0.0070202808 | G17: =COUNTIFS(Magi!$G$1:$G$1407,">"&$A17,Magi!$G$1:$G$1407,"<="&$B17,Magi!$F$1:$F$1407,"="&G$8) -> 4 | H17: =G17/$D$2 -> 0.0031201248 | I17: =COUNTIFS(Magi!$G$1:$G$1407,">"&$A17,Magi!$G$1:$G$1407,"<="&$B17,Magi!$F$1:$F$1407,"="&I$8) -> 0 | J17: =I17/$D$2 -> 0 | L17: =M16 -> 130 | M17: =L17+15 -> 145 | N17: =COUNTIFS(Magi!$D$1:$D$1407,"="&$M$7,Magi!$G$1:$G$1407,">"&$A17,Magi!$G$1:$G$1407,"<="&$B17) -> 0 | O17: =N17/$D$2 -> 0 | P17: =COUNTIFS(Magi!$D$1:$D$1407,"="&$M$7,Magi!$G$1:$G$1407,">"&$A17,Magi!$G$1:$G$1407,"<="&$B17,Magi!$F$1:$F$1407,"="&P$8) -> 0 | Q17: =P17/$D$2 -> 0 | R17: =COUNTIFS(Magi!$D$1:$D$1407,"="&$M$7,Magi!$G$1:$G$1407,">"&$A17,Magi!$G$1:$G$1407,"<="&$B17,Magi!$F$1:$F$1407,"="&R$8) -> 0 | S17: =R17/$D$2 -> 0 | T17: =COUNTIFS(Magi!$D$1:$D$1407,"="&$M$7,Magi!$G$1:$G$1407,">"&$A17,Magi!$G$1:$G$1407,"<="&$B17,Magi!$F$1:$F$1407,"="&T$8) -> 0 | U17: =T17/$D$2 -> 0
A18: =B17 -> 145 | B18: =A18+15 -> 160 | C18: =COUNTIFS(Magi!$G$1:$G$1407,">"&A18,Magi!$G$1:$G$1407,"<="&B18) -> 18 | D18: =C18/$D$2 -> 0.014040562 | E18: =COUNTIFS(Magi!$G$1:$G$1407,">"&$A18,Magi!$G$1:$G$1407,"<="&$B18,Magi!$F$1:$F$1407,"="&E$8) -> 13 | F18: =E18/$D$2 -> 0.010140406 | G18: =COUNTIFS(Magi!$G$1:$G$1407,">"&$A18,Magi!$G$1:$G$1407,"<="&$B18,Magi!$F$1:$F$1407,"="&G$8) -> 5 | H18: =G18/$D$2 -> 0.003900156 | I18: =COUNTIFS(Magi!$G$1:$G$1407,">"&$A18,Magi!$G$1:$G$1407,"<="&$B18,Magi!$F$1:$F$1407,"="&I$8) -> 0 | J18: =I18/$D$2 -> 0 | L18: =M17 -> 145 | M18: =L18+15 -> 160 | N18: =COUNTIFS(Magi!$D$1:$D$1407,"="&$M$7,Magi!$G$1:$G$1407,">"&$A18,Magi!$G$1:$G$1407,"<="&$B18) -> 3 | O18: =N18/$D$2 -> 0.0023400936 | P18: =COUNTIFS(Magi!$D$1:$D$1407,"="&$M$7,Magi!$G$1:$G$1407,">"&$A18,Magi!$G$1:$G$1407,"<="&$B18,Magi!$F$1:$F$1407,"="&P$8) -> 3 | Q18: =P18/$D$2 -> 0.0023400936 | R18: =COUNTIFS(Magi!$D$1:$D$1407,"="&$M$7,Magi!$G$1:$G$1407,">"&$A18,Magi!$G$1:$G$1407,"<="&$B18,Magi!$F$1:$F$1407,"="&R$8) -> 0 | S18: =R18/$D$2 -> 0 | T18: =COUNTIFS(Magi!$D$1:$D$1407,"="&$M$7,Magi!$G$1:$G$1407,">"&$A18,Magi!$G$1:$G$1407,"<="&$B18,Magi!$F$1:$F$1407,"="&T$8) -> 0 | U18: =T18/$D$2 -> 0
A19: =B18 -> 160 | B19: =A19+15 -> 175 | C19: =COUNTIFS(Magi!$G$1:$G$1407,">"&A19,Magi!$G$1:$G$1407,"<="&B19) -> 6 | D19: =C19/$D$2 -> 0.0046801872 | E19: =COUNTIFS(Magi!$G$1:$G$1407,">"&$A19,Magi!$G$1:$G$1407,"<="&$B19,Magi!$F$1:$F$1407,"="&E$8) -> 5 | F19: =E19/$D$2 -> 0.003900156 | G19: =COUNTIFS(Magi!$G$1:$G$1407,">"&$A19,Magi!$G$1:$G$1407,"<="&$B19,Magi!$F$1:$F$1407,"="&G$8) -> 1 | H19: =G19/$D$2 -> 0.0007800312 | I19: =COUNTIFS(Magi!$G$1:$G$1407,">"&$A19,Magi!$G$1:$G$1407,"<="&$B19,Magi!$F$1:$F$1407,"="&I$8) -> 0 | J19: =I19/$D$2 -> 0 | L19: =M18 -> 160 | M19: =L19+15 -> 175 | N19: =COUNTIFS(Magi!$D$1:$D$1407,"="&$M$7,Magi!$G$1:$G$1407,">"&$A19,Magi!$G$1:$G$1407,"<="&$B19) -> 1 | O19: =N19/$D$2 -> 0.0007800312 | P19: =COUNTIFS(Magi!$D$1:$D$1407,"="&$M$7,Magi!$G$1:$G$1407,">"&$A19,Magi!$G$1:$G$1407,"<="&$B19,Magi!$F$1:$F$1407,"="&P$8) -> 0 | Q19: =P19/$D$2 -> 0 | R19: =COUNTIFS(Magi!$D$1:$D$1407,"="&$M$7,Magi!$G$1:$G$1407,">"&$A19,Magi!$G$1:$G$1407,"<="&$B19,Magi!$F$1:$F$1407,"="&R$8) -> 1 | S19: =R19/$D$2 -> 0.0007800312 | T19: =COUNTIFS(Magi!$D$1:$D$1407,"="&$M$7,Magi!$G$1:$G$1407,">"&$A19,Magi!$G$1:$G$1407,"<="&$B19,Magi!$F$1:$F$1407,"="&T$8) -> 0 | U19: =T19/$D$2 -> 0
A20: =B19 -> 175 | B20: =A20+15 -> 190 | C20: =COUNTIFS(Magi!$G$1:$G$1407,">"&A20,Magi!$G$1:$G$1407,"<="&B20) -> 1 | D20: =C20/$D$2 -> 0.0007800312 | E20: =COUNTIFS(Magi!$G$1:$G$1407,">"&$A20,Magi!$G$1:$G$1407,"<="&$B20,Magi!$F$1:$F$1407,"="&E$8) -> 1 | F20: =E20/$D$2 -> 0.0007800312 | G20: =COUNTIFS(Magi!$G$1:$G$1407,">"&$A20,Magi!$G$1:$G$1407,"<="&$B20,Magi!$F$1:$F$1407,"="&G$8) -> 0 | H20: =G20/$D$2 -> 0 | I20: =COUNTIFS(Magi!$G$1:$G$1407,">"&$A20,Magi!$G$1:$G$1407,"<="&$B20,Magi!$F$1:$F$1407,"="&I$8) -> 0 | J20: =I20/$D$2 -> 0 | L20: =M19 -> 175 | M20: =L20+15 -> 190 | N20: =COUNTIFS(Magi!$D$1:$D$1407,"="&$M$7,Magi!$G$1:$G$1407,">"&$A20,Magi!$G$1:$G$1407,"<="&$B20) -> 0 | O20: =N20/$D$2 -> 0 | P20: =COUNTIFS(Magi!$D$1:$D$1407,"="&$M$7,Magi!$G$1:$G$1407,">"&$A20,Magi!$G$1:$G$1407,"<="&$B20,Magi!$F$1:$F$1407,"="&P$8) -> 0 | Q20: =P20/$D$2 -> 0 | R20: =COUNTIFS(Magi!$D$1:$D$1407,"="&$M$7,Magi!$G$1:$G$1407,">"&$A20,Magi!$G$1:$G$1407,"<="&$B20,Magi!$F$1:$F$1407,"="&R$8) -> 0 | S20: =R20/$D$2 -> 0 | T20: =COUNTIFS(Magi!$D$1:$D$1407,"="&$M$7,Magi!$G$1:$G$1407,">"&$A20,Magi!$G$1:$G$1407,"<="&$B20,Magi!$F$1:$F$1407,"="&T$8) -> 0 | U20: =T20/$D$2 -> 0
A21: =B20 -> 190 | B21: =A21+15 -> 205 | C21: =COUNTIFS(Magi!$G$1:$G$1407,">"&A21,Magi!$G$1:$G$1407,"<="&B21) -> 2 | D21: =C21/$D$2 -> 0.0015600624 | E21: =COUNTIFS(Magi!$G$1:$G$1407,">"&$A21,Magi!$G$1:$G$1407,"<="&$B21,Magi!$F$1:$F$1407,"="&E$8) -> 1 | F21: =E21/$D$2 -> 0.0007800312 | G21: =COUNTIFS(Magi!$G$1:$G$1407,">"&$A21,Magi!$G$1:$G$1407,"<="&$B21,Magi!$F$1:$F$1407,"="&G$8) -> 1 | H21: =G21/$D$2 -> 0.0007800312 | I21: =COUNTIFS(Magi!$G$1:$G$1407,">"&$A21,Magi!$G$1:$G$1407,"<="&$B21,Magi!$F$1:$F$1407,"="&I$8) -> 0 | J21: =I21/$D$2 -> 0 | L21: =M20 -> 190 | M21: =L21+15 -> 205 | N21: =COUNTIFS(Magi!$D$1:$D$1407,"="&$M$7,Magi!$G$1:$G$1407,">"&$A21,Magi!$G$1:$G$1407,"<="&$B21) -> 0 | O21: =N21/$D$2 -> 0 | P21: =COUNTIFS(Magi!$D$1:$D$1407,"="&$M$7,Magi!$G$1:$G$1407,">"&$A21,Magi!$G$1:$G$1407,"<="&$B21,Magi!$F$1:$F$1407,"="&P$8) -> 0 | Q21: =P21/$D$2 -> 0 | R21: =COUNTIFS(Magi!$D$1:$D$1407,"="&$M$7,Magi!$G$1:$G$1407,">"&$A21,Magi!$G$1:$G$1407,"<="&$B21,Magi!$F$1:$F$1407,"="&R$8) -> 0 | S21: =R21/$D$2 -> 0 | T21: =COUNTIFS(Magi!$D$1:$D$1407,"="&$M$7,Magi!$G$1:$G$1407,">"&$A21,Magi!$G$1:$G$1407,"<="&$B21,Magi!$F$1:$F$1407,"="&T$8) -> 0 | U21: =T21/$D$2 -> 0
A22: =B21 -> 205 | B22: =A22+15 -> 220 | C22: =COUNTIFS(Magi!$G$1:$G$1407,">"&A22,Magi!$G$1:$G$1407,"<="&B22) -> 0 | D22: =C22/$D$2 -> 0 | E22: =COUNTIFS(Magi!$G$1:$G$1407,">"&$A22,Magi!$G$1:$G$1407,"<="&$B22,Magi!$F$1:$F$1407,"="&E$8) -> 0 | F22: =E22/$D$2 -> 0 | G22: =COUNTIFS(Magi!$G$1:$G$1407,">"&$A22,Magi!$G$1:$G$1407,"<="&$B22,Magi!$F$1:$F$1407,"="&G$8) -> 0 | H22: =G22/$D$2 -> 0 | I22: =COUNTIFS(Magi!$G$1:$G$1407,">"&$A22,Magi!$G$1:$G$1407,"<="&$B22,Magi!$F$1:$F$1407,"="&I$8) -> 0 | J22: =I22/$D$2 -> 0 | L22: =M21 -> 205 | M22: =L22+15 -> 220 | N22: =COUNTIFS(Magi!$D$1:$D$1407,"="&$M$7,Magi!$G$1:$G$1407,">"&$A22,Magi!$G$1:$G$1407,"<="&$B22) -> 0 | O22: =N22/$D$2 -> 0 | P22: =COUNTIFS(Magi!$D$1:$D$1407,"="&$M$7,Magi!$G$1:$G$1407,">"&$A22,Magi!$G$1:$G$1407,"<="&$B22,Magi!$F$1:$F$1407,"="&P$8) -> 0 | Q22: =P22/$D$2 -> 0 | R22: =COUNTIFS(Magi!$D$1:$D$1407,"="&$M$7,Magi!$G$1:$G$1407,">"&$A22,Magi!$G$1:$G$1407,"<="&$B22,Magi!$F$1:$F$1407,"="&R$8) -> 0 | S22: =R22/$D$2 -> 0 | T22: =COUNTIFS(Magi!$D$1:$D$1407,"="&$M$7,Magi!$G$1:$G$1407,">"&$A22,Magi!$G$1:$G$1407,"<="&$B22,Magi!$F$1:$F$1407,"="&T$8) -> 0 | U22: =T22/$D$2 -> 0
... A24: =B23 -> 235 | B24: =A24+15 -> 250 | C24: =COUNTIFS(Magi!$G$1:$G$1407,">"&A24,Magi!$G$1:$G$1407,"<="&B24) -> 0 | D24: =C24/$D$2 -> 0 | E24: =COUNTIFS(Magi!$G$1:$G$1407,">"&$A24,Magi!$G$1:$G$1407,"<="&$B24,Magi!$F$1:$F$1407,"="&E$8) -> 0 | F24: =E24/$D$2 -> 0 | G24: =COUNTIFS(Magi!$G$1:$G$1407,">"&$A24,Magi!$G$1:$G$1407,"<="&$B24,Magi!$F$1:$F$1407,"="&G$8) -> 0 | H24: =G24/$D$2 -> 0 | I24: =COUNTIFS(Magi!$G$1:$G$1407,">"&$A24,Magi!$G$1:$G$1407,"<="&$B24,Magi!$F$1:$F$1407,"="&I$8) -> 0 | J24: =I24/$D$2 -> 0 | L24: =M23 -> 235 | M24: =L24+15 -> 250 | N24: =COUNTIFS(Magi!$D$1:$D$1407,"="&$M$7,Magi!$G$1:$G$1407,">"&$A24,Magi!$G$1:$G$1407,"<="&$B24) -> 0 | O24: =N24/$D$2 -> 0 | P24: =COUNTIFS(Magi!$D$1:$D$1407,"="&$M$7,Magi!$G$1:$G$1407,">"&$A24,Magi!$G$1:$G$1407,"<="&$B24,Magi!$F$1:$F$1407,"="&P$8) -> 0 | Q24: =P24/$D$2 -> 0 | R24: =COUNTIFS(Magi!$D$1:$D$1407,"="&$M$7,Magi!$G$1:$G$1407,">"&$A24,Magi!$G$1:$G$1407,"<="&$B24,Magi!$F$1:$F$1407,"="&R$8) -> 0 | S24: =R24/$D$2 -> 0 | T24: =COUNTIFS(Magi!$D$1:$D$1407,"="&$M$7,Magi!$G$1:$G$1407,">"&$A24,Magi!$G$1:$G$1407,"<="&$B24,Magi!$F$1:$F$1407,"="&T$8) -> 0 | U24: =T24/$D$2 -> 0
A25: =B24 -> 250 | B25: 500 | C25: =COUNTIFS(Magi!$G$1:$G$1407,">"&A25,Magi!$G$1:$G$1407,"<="&B25) -> 1 | D25: =C25/$D$2 -> 0.0007800312 | E25: =COUNTIFS(Magi!$G$1:$G$1407,">"&$A25,Magi!$G$1:$G$1407,"<="&$B25,Magi!$F$1:$F$1407,"="&E$8) -> 0 | F25: =E25/$D$2 -> 0 | G25: =COUNTIFS(Magi!$G$1:$G$1407,">"&$A25,Magi!$G$1:$G$1407,"<="&$B25,Magi!$F$1:$F$1407,"="&G$8) -> 1 | H25: =G25/$D$2 -> 0.0007800312 | I25: =COUNTIFS(Magi!$G$1:$G$1407,">"&$A25,Magi!$G$1:$G$1407,"<="&$B25,Magi!$F$1:$F$1407,"="&I$8) -> 0 | J25: =I25/$D$2 -> 0 | L25: =M24 -> 250 | M25: 1000 | N25: =COUNTIFS(Magi!$D$1:$D$1407,"="&$M$7,Magi!$G$1:$G$1407,">"&$A25,Magi!$G$1:$G$1407,"<="&$B25) -> 0 | O25: =N25/$D$2 -> 0 | P25: =COUNTIFS(Magi!$D$1:$D$1407,"="&$M$7,Magi!$G$1:$G$1407,">"&$A25,Magi!$G$1:$G$1407,"<="&$B25,Magi!$F$1:$F$1407,"="&P$8) -> 0 | Q25: =P25/$D$2 -> 0 | R25: =COUNTIFS(Magi!$D$1:$D$1407,"="&$M$7,Magi!$G$1:$G$1407,">"&$A25,Magi!$G$1:$G$1407,"<="&$B25,Magi!$F$1:$F$1407,"="&R$8) -> 0 | S25: =R25/$D$2 -> 0 | T25: =COUNTIFS(Magi!$D$1:$D$1407,"="&$M$7,Magi!$G$1:$G$1407,">"&$A25,Magi!$G$1:$G$1407,"<="&$B25,Magi!$F$1:$F$1407,"="&T$8) -> 0 | U25: =T25/$D$2 -> 0
A26: Sum | C26: =SUM(C9:C25) -> 445 | D26: =C26/$D$2 -> 0.34711388 | E26: =SUM(E9:E25) -> 291 | F26: =E26/$D$2 -> 0.22698908 | G26: =SUM(G9:G25) -> 146 | H26: =G26/$D$2 -> 0.11388456 | I26: =SUM(I9:I25) -> 1 | J26: =I26/$D$2 -> 0.0007800312 | L26: Sum | N26: =SUM(N9:N25) -> 35 | O26: =N26/$D$2 -> 0.027301092 | P26: =SUM(P9:P25) -> 22 | Q26: =P26/$D$2 -> 0.017160686 | R26: =SUM(R9:R25) -> 13 | S26: =R26/$D$2 -> 0.010140406 | T26: =SUM(T9:T25) -> 0 | U26: =T26/$D$2 -> 0

Sheet House Statistics
A7: Bonisagus
A8: boukoloi | B8: =COUNTIFS(Magi!$K$1:$K$1407,"="&A8) -> 7 | C8: 12
A9: daduchos | B9: =COUNTIFS(Magi!$K$1:$K$1407,"="&A9) -> 2 | C9: 14
A10: cannophori | B10: =COUNTIFS(Magi!$K$1:$K$1407,"="&A10) -> 4 | C10: 14
A11: dendrophori | B11: =COUNTIFS(Magi!$K$1:$K$1407,"="&A11) -> 10 | C11: 11
A12: total | B12: =SUM(B8:B11) -> 23 | C12: =SUM(C8:C11) -> 51
